BEGIN:VCALENDAR
VERSION:2.0
PRODID:-//wp-events-plugin.com//7.2.3.1//EN
TZID:Europe/London
X-WR-TIMEZONE:Europe/London
BEGIN:VEVENT
UID:3152@larevistadelapalma.com
DTSTART:20240729T190000Z
DTEND:20240729T203000Z
DTSTAMP:20240724T190728Z
URL:https://www.larevistadelapalma.com/events/x-festival-internacional-de-
 musica-espanola-y-zarzuela-de-espana-a-rusia/
SUMMARY:X Festival Internacional de Música Española y Zarzuela (De Españ
 a a Rusia)
DESCRIPTION:\nEl X Festival Internacional de Música Española y Zarzuela L
 a Palma llega a la capital.\n\n\n\n\nProsiguen las actuaciones del Festiva
 l\, en esta ocasión con el pase "De España a Rusia". Aunque provenientes
  de contextos culturales y geográficos distintos\, la música española y
  rusa comparten un profundo amor por la identidad nacional y la narración
  musical. Ambas tradiciones utilizan el piano no solo como un instrumento\
 , sino como una voz poderosa que expresa la historia\, la cultura y las em
 ociones de su pueblo.\n\nLa pasión de la música española se encuentra c
 on la profundidad emocional de la música rusa\, creando un diálogo fasci
 nante y enriquecedor que celebra la diversidad y la conexión humana a tra
 vés del arte.\n\nEl concierto comienza con una selección de obras españ
 olas que capturan el espíritu y la esencia de su cultura. La música espa
 ñola se caracteriza por su vitalidad rítmica\, colores vibrantes y la ev
 ocación de paisajes y danzas populares. Obras de Monpou\, Falla y Ravel\n
 \nLa segunda parte del concierto\, dedicada a la música rusa estará ocup
 ada exclusivamente por la obra maestra de Modest Músorgski: "Cuadros de u
 na Exposición"\, serie de piezas evocadoras\, cada una pintando un vívid
 o cuadro de la vida y la cultura rusa\, desde la "Promenade" hasta la pode
 rosa "La Gran Puerta de Kiev".\n\nPROGRAMA (avance)\nPrimera parte\, obras
  de Mompou\, Manuel de Falla y Ravel (la pieza en forma de habanera)\nSegu
 nda parte\, Cuadros de una exposición M. Músorgski\n\n\n\nLas entradas e
 stán disponibles por 10 euros.\nComprar entradas &gt\;&gt\;\nToda la prog
 ramación en zarzuelalapalma.com\n\n
ATTACH;FMTTYPE=image/jpeg:https://www.larevistadelapalma.com/wp-content/up
 loads/2024/07/Zarzuela-De-Espana-a-Rusia.jpeg
CATEGORIES:Conciertos,Música
LOCATION:Teatro Circo de Marte\, Calle Virgen de La Luz\, 5\, Santa Cruz de
  La Palma\, 38700\, España
GEO:28.682989;-17.765755
X-APPLE-STRUCTURED-LOCATION;VALUE=URI;X-ADDRESS=Calle Virgen de La Luz\, 5\
 , Santa Cruz de La Palma\, 38700\, España;X-APPLE-RADIUS=100;X-TITLE=Teat
 ro Circo de Marte:geo:28.682989,-17.765755
END:VEVENT
END:VCALENDARBEGIN:VCALENDAR
VERSION:2.0
PRODID:-//wp-events-plugin.com//7.2.3.1//EN
TZID:Europe/London
X-WR-TIMEZONE:Europe/London
BEGIN:VEVENT
UID:3152@larevistadelapalma.com
DTSTART:20240729T190000Z
DTEND:20240729T203000Z
DTSTAMP:20240724T190728Z
URL:https://www.larevistadelapalma.com/events/x-festival-internacional-de-
 musica-espanola-y-zarzuela-de-espana-a-rusia/
SUMMARY:X Festival Internacional de Música Española y Zarzuela (De Españ
 a a Rusia)
DESCRIPTION:\nEl X Festival Internacional de Música Española y Zarzuela L
 a Palma llega a la capital.\n\n\n\n\nProsiguen las actuaciones del Festiva
 l\, en esta ocasión con el pase "De España a Rusia". Aunque provenientes
  de contextos culturales y geográficos distintos\, la música española y
  rusa comparten un profundo amor por la identidad nacional y la narración
  musical. Ambas tradiciones utilizan el piano no solo como un instrumento\
 , sino como una voz poderosa que expresa la historia\, la cultura y las em
 ociones de su pueblo.\n\nLa pasión de la música española se encuentra c
 on la profundidad emocional de la música rusa\, creando un diálogo fasci
 nante y enriquecedor que celebra la diversidad y la conexión humana a tra
 vés del arte.\n\nEl concierto comienza con una selección de obras españ
 olas que capturan el espíritu y la esencia de su cultura. La música espa
 ñola se caracteriza por su vitalidad rítmica\, colores vibrantes y la ev
 ocación de paisajes y danzas populares. Obras de Monpou\, Falla y Ravel\n
 \nLa segunda parte del concierto\, dedicada a la música rusa estará ocup
 ada exclusivamente por la obra maestra de Modest Músorgski: "Cuadros de u
 na Exposición"\, serie de piezas evocadoras\, cada una pintando un vívid
 o cuadro de la vida y la cultura rusa\, desde la "Promenade" hasta la pode
 rosa "La Gran Puerta de Kiev".\n\nPROGRAMA (avance)\nPrimera parte\, obras
  de Mompou\, Manuel de Falla y Ravel (la pieza en forma de habanera)\nSegu
 nda parte\, Cuadros de una exposición M. Músorgski\n\n\n\nLas entradas e
 stán disponibles por 10 euros.\nComprar entradas &gt\;&gt\;\nToda la prog
 ramación en zarzuelalapalma.com\n\n
ATTACH;FMTTYPE=image/jpeg:https://www.larevistadelapalma.com/wp-content/up
 loads/2024/07/Zarzuela-De-Espana-a-Rusia.jpeg
CATEGORIES:Conciertos,Música
LOCATION:Teatro Circo de Marte\, Calle Virgen de La Luz\, 5\, Santa Cruz de
  La Palma\, 38700\, España
GEO:28.682989;-17.765755
X-APPLE-STRUCTURED-LOCATION;VALUE=URI;X-ADDRESS=Calle Virgen de La Luz\, 5\
 , Santa Cruz de La Palma\, 38700\, España;X-APPLE-RADIUS=100;X-TITLE=Teat
 ro Circo de Marte:geo:28.682989,-17.765755
END:VEVENT
END:VCALENDAR