BEGIN:VCALENDAR
VERSION:2.0
PRODID:-//wp-events-plugin.com//7.2.3.1//EN
TZID:Europe/London
X-WR-TIMEZONE:Europe/London
BEGIN:VEVENT
UID:3255@larevistadelapalma.com
DTSTART:20241004T200000Z
DTEND:20241004T224500Z
DTSTAMP:20240924T200516Z
URL:https://www.larevistadelapalma.com/events/xi-festival-asis-de-noche/
SUMMARY:XI Festival Asís de noche
DESCRIPTION:Como cada año por estas fechas\, llega una nueva edición del 
 Festival Asís de noche\, que esta edición contará con Avernessus\, Los 
 Salvapantallas y la selección musical de Grajasound.\n\nMás info&gt\;&gt
 \;
ATTACH;FMTTYPE=image/jpeg:https://www.larevistadelapalma.com/wp-content/up
 loads/2024/09/Festival-Asis-de-noche.jpg
CATEGORIES:Festivales/Fiestas,Música
LOCATION:Plaza de San Francisco\, Plaza de San Francisco \, Santa Cruz De L
 a Palma\, Santa Cruz de Tenerife\, 38700\, España
GEO:28.683698;-17.767894
X-APPLE-STRUCTURED-LOCATION;VALUE=URI;X-ADDRESS=Plaza de San Francisco \, S
 anta Cruz De La Palma\, Santa Cruz de Tenerife\, 38700\, España;X-APPLE-R
 ADIUS=100;X-TITLE=Plaza de San Francisco:geo:28.683698,-17.767894
END:VEVENT
END:VCALENDARBEGIN:VCALENDAR
VERSION:2.0
PRODID:-//wp-events-plugin.com//7.2.3.1//EN
TZID:Europe/London
X-WR-TIMEZONE:Europe/London
BEGIN:VEVENT
UID:3255@larevistadelapalma.com
DTSTART:20241004T200000Z
DTEND:20241004T224500Z
DTSTAMP:20240924T200516Z
URL:https://www.larevistadelapalma.com/events/xi-festival-asis-de-noche/
SUMMARY:XI Festival Asís de noche
DESCRIPTION:Como cada año por estas fechas\, llega una nueva edición del 
 Festival Asís de noche\, que esta edición contará con Avernessus\, Los 
 Salvapantallas y la selección musical de Grajasound.\n\nMás info&gt\;&gt
 \;
ATTACH;FMTTYPE=image/jpeg:https://www.larevistadelapalma.com/wp-content/up
 loads/2024/09/Festival-Asis-de-noche.jpg
CATEGORIES:Festivales/Fiestas,Música
LOCATION:Plaza de San Francisco\, Plaza de San Francisco \, Santa Cruz De L
 a Palma\, Santa Cruz de Tenerife\, 38700\, España
GEO:28.683698;-17.767894
X-APPLE-STRUCTURED-LOCATION;VALUE=URI;X-ADDRESS=Plaza de San Francisco \, S
 anta Cruz De La Palma\, Santa Cruz de Tenerife\, 38700\, España;X-APPLE-R
 ADIUS=100;X-TITLE=Plaza de San Francisco:geo:28.683698,-17.767894
END:VEVENT
END:VCALENDAR