BEGIN:VCALENDAR
VERSION:2.0
PRODID:-//wp-events-plugin.com//7.2.3.1//EN
TZID:Europe/London
X-WR-TIMEZONE:Europe/London
BEGIN:VEVENT
UID:558@larevistadelapalma.com
DTSTART;VALUE=DATE:20230831
DTEND;VALUE=DATE:20230904
DTSTAMP:20230725T205924Z
URL:https://www.larevistadelapalma.com/events/xv-festival-senderismo-y-mon
 tana-de-la-palma/
SUMMARY:XV Festival Senderismo y montaña de La Palma
DESCRIPTION:Este año se apuesta por incrementar el atractivo del Festival\
 , incorporando una novedosa y espectacular travesía. Esta nueva modalidad
  tiene por objeto unir varios municipios a través de la Red Insular de Se
 nderos
ATTACH;FMTTYPE=image/jpeg:https://www.larevistadelapalma.com/wp-content/up
 loads/2023/07/Festival.jpg
CATEGORIES:Actividades deportivas,Otras propuestas
END:VEVENT
END:VCALENDARBEGIN:VCALENDAR
VERSION:2.0
PRODID:-//wp-events-plugin.com//7.2.3.1//EN
TZID:Europe/London
X-WR-TIMEZONE:Europe/London
BEGIN:VEVENT
UID:558@larevistadelapalma.com
DTSTART;VALUE=DATE:20230831
DTEND;VALUE=DATE:20230904
DTSTAMP:20230725T205924Z
URL:https://www.larevistadelapalma.com/events/xv-festival-senderismo-y-mon
 tana-de-la-palma/
SUMMARY:XV Festival Senderismo y montaña de La Palma
DESCRIPTION:Este año se apuesta por incrementar el atractivo del Festival\
 , incorporando una novedosa y espectacular travesía. Esta nueva modalidad
  tiene por objeto unir varios municipios a través de la Red Insular de Se
 nderos
ATTACH;FMTTYPE=image/jpeg:https://www.larevistadelapalma.com/wp-content/up
 loads/2023/07/Festival.jpg
CATEGORIES:Actividades deportivas,Otras propuestas
END:VEVENT
END:VCALENDAR