BEGIN:VCALENDAR
VERSION:2.0
PRODID:-//wp-events-plugin.com//7.2.3.1//EN
TZID:Europe/London
X-WR-TIMEZONE:Europe/London
BEGIN:VEVENT
UID:3629@larevistadelapalma.com
DTSTART;VALUE=DATE:20250313
DTEND;VALUE=DATE:20250316
DTSTAMP:20250313T195411Z
URL:https://www.larevistadelapalma.com/events/xx-feria-juvenil-y-cultural-
 de-el-paso/
SUMMARY:XX Feria Juvenil y cultural de El Paso.
DESCRIPTION:Contará con las actuaciones de Christian Delgado\, Manu Echeva
  y la Banda Municipal de Música de El Paso.
ATTACH;FMTTYPE=image/jpeg:https://www.larevistadelapalma.com/wp-content/up
 loads/2025/03/Feria-Juvenil-El-Paso.jpg
CATEGORIES:Ferias y mercados,Otras propuestas,Varios
LOCATION:Municipio de El Paso\, El Paso\, La Palma \, El Paso\, 38750\, Esp
 aña
GEO:28.652378;-17.880396
X-APPLE-STRUCTURED-LOCATION;VALUE=URI;X-ADDRESS=El Paso\, La Palma \, El Pa
 so\, 38750\, España;X-APPLE-RADIUS=100;X-TITLE=Municipio de El Paso:geo:2
 8.652378,-17.880396
END:VEVENT
END:VCALENDARBEGIN:VCALENDAR
VERSION:2.0
PRODID:-//wp-events-plugin.com//7.2.3.1//EN
TZID:Europe/London
X-WR-TIMEZONE:Europe/London
BEGIN:VEVENT
UID:3629@larevistadelapalma.com
DTSTART;VALUE=DATE:20250313
DTEND;VALUE=DATE:20250316
DTSTAMP:20250313T195411Z
URL:https://www.larevistadelapalma.com/events/xx-feria-juvenil-y-cultural-
 de-el-paso/
SUMMARY:XX Feria Juvenil y cultural de El Paso.
DESCRIPTION:Contará con las actuaciones de Christian Delgado\, Manu Echeva
  y la Banda Municipal de Música de El Paso.
ATTACH;FMTTYPE=image/jpeg:https://www.larevistadelapalma.com/wp-content/up
 loads/2025/03/Feria-Juvenil-El-Paso.jpg
CATEGORIES:Ferias y mercados,Otras propuestas,Varios
LOCATION:Municipio de El Paso\, El Paso\, La Palma \, El Paso\, 38750\, Esp
 aña
GEO:28.652378;-17.880396
X-APPLE-STRUCTURED-LOCATION;VALUE=URI;X-ADDRESS=El Paso\, La Palma \, El Pa
 so\, 38750\, España;X-APPLE-RADIUS=100;X-TITLE=Municipio de El Paso:geo:2
 8.652378,-17.880396
END:VEVENT
END:VCALENDAR