BEGIN:VCALENDAR
VERSION:2.0
PRODID:-//wp-events-plugin.com//7.2.3.1//EN
TZID:Europe/London
X-WR-TIMEZONE:Europe/London
BEGIN:VEVENT
UID:905@larevistadelapalma.com
DTSTART:20231216T190000Z
DTEND:20231216T203000Z
DTSTAMP:20231206T225501Z
URL:https://www.larevistadelapalma.com/events/xx-recital-navideno-de-tajad
 re/
SUMMARY:XX Recital Navideño de Tajadre
DESCRIPTION:Un clasico de la navidad de Santa Cruz de La Palma\, el recital
  de la Agrupación Tajadre. \nParticipa: Tajadre  + Invitados (Coro de l
 a Escuela Insular de Música de La Palma)\n\nhttps://www.youtube.com/watch
 ?v=1eXY9siBvH4
ATTACH;FMTTYPE=image/jpeg:https://www.larevistadelapalma.com/wp-content/up
 loads/2023/12/Tajadre-navidad.jpg
CATEGORIES:Fiestas populares,Otras propuestas
LOCATION:Plaza de España de Santa Cruz de La Palma\, Plaza de España\, Sa
 nta Cruz De La Palma\, Santa Cruz de Tenerife\, 38700\, España
GEO:28.683369;-17.76487
X-APPLE-STRUCTURED-LOCATION;VALUE=URI;X-ADDRESS=Plaza de España\, Santa Cr
 uz De La Palma\, Santa Cruz de Tenerife\, 38700\, España;X-APPLE-RADIUS=1
 00;X-TITLE=Plaza de España de Santa Cruz de La Palma:geo:28.683369,-17.76
 487
END:VEVENT
END:VCALENDARBEGIN:VCALENDAR
VERSION:2.0
PRODID:-//wp-events-plugin.com//7.2.3.1//EN
TZID:Europe/London
X-WR-TIMEZONE:Europe/London
BEGIN:VEVENT
UID:905@larevistadelapalma.com
DTSTART:20231216T190000Z
DTEND:20231216T203000Z
DTSTAMP:20231206T225501Z
URL:https://www.larevistadelapalma.com/events/xx-recital-navideno-de-tajad
 re/
SUMMARY:XX Recital Navideño de Tajadre
DESCRIPTION:Un clasico de la navidad de Santa Cruz de La Palma\, el recital
  de la Agrupación Tajadre. \nParticipa: Tajadre  + Invitados (Coro de l
 a Escuela Insular de Música de La Palma)\n\nhttps://www.youtube.com/watch
 ?v=1eXY9siBvH4
ATTACH;FMTTYPE=image/jpeg:https://www.larevistadelapalma.com/wp-content/up
 loads/2023/12/Tajadre-navidad.jpg
CATEGORIES:Fiestas populares,Otras propuestas
LOCATION:Plaza de España de Santa Cruz de La Palma\, Plaza de España\, Sa
 nta Cruz De La Palma\, Santa Cruz de Tenerife\, 38700\, España
GEO:28.683369;-17.76487
X-APPLE-STRUCTURED-LOCATION;VALUE=URI;X-ADDRESS=Plaza de España\, Santa Cr
 uz De La Palma\, Santa Cruz de Tenerife\, 38700\, España;X-APPLE-RADIUS=1
 00;X-TITLE=Plaza de España de Santa Cruz de La Palma:geo:28.683369,-17.76
 487
END:VEVENT
END:VCALENDAR