BEGIN:VCALENDAR
VERSION:2.0
PRODID:-//wp-events-plugin.com//7.2.3.1//EN
TZID:Europe/London
X-WR-TIMEZONE:Europe/London
BEGIN:VEVENT
UID:4111@larevistadelapalma.com
DTSTART:20251213T193000Z
DTEND:20251213T210000Z
DTSTAMP:20251213T130357Z
URL:https://www.larevistadelapalma.com/events/xxii-recital-navideno-de-taj
 adre/
SUMMARY:APLAZADO - XXII Recital Navideño de Tajadre
DESCRIPTION:Debido a las condiciones meterológicas adversas\, se aplaza el
  recital.\n\nComo cada año\, la Agrupación palmera Tajadre ofrece su rec
 ital navideño en la Plaza de España de Santa Cruz de La Palma. Estarán 
 acompañada de las voces del coro de La Escuela Insular de Música de La P
 alma. 
ATTACH;FMTTYPE=image/jpeg:https://www.larevistadelapalma.com/wp-content/up
 loads/2025/12/rECITAL-TAJADRE.jpg
CATEGORIES:Conciertos,Música
LOCATION:Plaza de España de Santa Cruz de La Palma\, Plaza de España\, Sa
 nta Cruz De La Palma\, Santa Cruz de Tenerife\, 38700\, España
GEO:28.683369;-17.76487
X-APPLE-STRUCTURED-LOCATION;VALUE=URI;X-ADDRESS=Plaza de España\, Santa Cr
 uz De La Palma\, Santa Cruz de Tenerife\, 38700\, España;X-APPLE-RADIUS=1
 00;X-TITLE=Plaza de España de Santa Cruz de La Palma:geo:28.683369,-17.76
 487
END:VEVENT
END:VCALENDARBEGIN:VCALENDAR
VERSION:2.0
PRODID:-//wp-events-plugin.com//7.2.3.1//EN
TZID:Europe/London
X-WR-TIMEZONE:Europe/London
BEGIN:VEVENT
UID:4111@larevistadelapalma.com
DTSTART:20251213T193000Z
DTEND:20251213T210000Z
DTSTAMP:20251213T130357Z
URL:https://www.larevistadelapalma.com/events/xxii-recital-navideno-de-taj
 adre/
SUMMARY:APLAZADO - XXII Recital Navideño de Tajadre
DESCRIPTION:Debido a las condiciones meterológicas adversas\, se aplaza el
  recital.\n\nComo cada año\, la Agrupación palmera Tajadre ofrece su rec
 ital navideño en la Plaza de España de Santa Cruz de La Palma. Estarán 
 acompañada de las voces del coro de La Escuela Insular de Música de La P
 alma. 
ATTACH;FMTTYPE=image/jpeg:https://www.larevistadelapalma.com/wp-content/up
 loads/2025/12/rECITAL-TAJADRE.jpg
CATEGORIES:Conciertos,Música
LOCATION:Plaza de España de Santa Cruz de La Palma\, Plaza de España\, Sa
 nta Cruz De La Palma\, Santa Cruz de Tenerife\, 38700\, España
GEO:28.683369;-17.76487
X-APPLE-STRUCTURED-LOCATION;VALUE=URI;X-ADDRESS=Plaza de España\, Santa Cr
 uz De La Palma\, Santa Cruz de Tenerife\, 38700\, España;X-APPLE-RADIUS=1
 00;X-TITLE=Plaza de España de Santa Cruz de La Palma:geo:28.683369,-17.76
 487
END:VEVENT
END:VCALENDAR