BEGIN:VCALENDAR
VERSION:2.0
PRODID:-//wp-events-plugin.com//7.2.3.1//EN
TZID:Europe/London
X-WR-TIMEZONE:Europe/London
BEGIN:VEVENT
UID:909@larevistadelapalma.com
DTSTART:20231229T193000Z
DTEND:20231229T210000Z
DTSTAMP:20231207T180025Z
URL:https://www.larevistadelapalma.com/events/xxiv-festival-troveros-de-as
 ieta-con-polo-orti-y-chipi-chacon/
SUMMARY:XXIV Festival de Navidad de Troveros de Asieta\, con Polo Ortí y C
 hipi Chacón
DESCRIPTION:En esta edición\, el grupo contará como artistas invitados\, 
 con el tinerfeño Polo Ortí\, pianista y creador consagrado en el panoram
 a musical del jazz internacional\, y con el venezolano Chipi Chacón\, tro
 mpetista y cantante\, catalogado en la actualidad\, como uno de los jóven
 es músicos latinoamericanos con más proyección internacional.\n\nEn el 
 Festival se entrelazan de forma magistral\, la contundencia rítmica y son
 era del grupo\, con las armonías y el virtuosismo de estos dos grandes ta
 lentos. Troveros de Asieta\, actuará junto a Polo Ortí y Chipi Chacón\,
  pero también Chipi Chacón y Polo Ortí intervendrán conjuntamente por 
 primera vez con ocasión del mismo. El repertorio se desarrolla bajo disti
 ntos formatos y ambientes\, sorprendiendo al público asistente en una pue
 sta en escena versátil\, para culminar con un derroche de percusión que 
 le da la mano al piano y a las trompetas\, dando rienda suelta a la improv
 isación.\nComprar entradas &gt\;&gt\;\n\nTROVEROS DE ASIETA\n\nFrancis Co
 ncepción: voz y guitarra // Pedro Brito: cuatro cubano y voz // Fran Mart
 ín “Ciani”: voz y percusión menor // José Humberto Martín : trompe
 ta y coros //Oscar Herrera : trompeta // Carlos Perdomo : babybass // Jhon
 y  Olivares :percusión // David Platero : percusión // Alberto Martín:
  piano. Técnico de sonido: Chiqui Martín Técnico de Iluminación: Migue
 l Ferrera\n\n\n\nTroveros de Asieta se presenta al público en 1991\, en l
 a isla de La Palma. Cuenta con nueve trabajos discográficos publicados ha
 sta la fecha\, “Tradicional” (1994)\, “Vamos a hacerlo bueno” (199
 7)\, “Siempre sonriendo” (2001)  “Bailando con Lecuona” (2004)\, 
 “Aquí en la Isla” (2008)\, “Troveros de Asieta 20 Años – 2 CDs
 ” (2011) y “El son tiene duende” (2014)\, “Querida Cuba” (2017) 
 e “Influencias del Latin Jazz” (2020)\, que ha presentado además de p
 or toda Canarias por territorio peninsular y en el extranjero.\n\nEn 2003 
 representa a España en el Festival de Los Septetos en la Habana-Cuba\, qu
 e en esta edición se abrió por primera vez a la participación de formac
 iones soneras destacadas en el ámbito internacional.\n\nTroveros de Asiet
 a ha sido elogiado por la crítica especializada\, considerándolo como un
 a de las formaciones más relevantes de la música cubana hecha en España
  y Europa\, como así le ha sido reconocido también por los expertos cuba
 nos\, con el Premio Internacional Cubadisco otorgado al Grupo en  2012. 
 \n\nCon Troveros han colaborado de forma estrecha artistas del prestigio d
 e Manolito Simonet (Cuba)\, Alfredo Valdés Jr. (Cuba-Nueva York)\, Albita
  Rodríguez (Cuba-Miami)\, Pancho Amat (Cuba)\, Lucrecia (Cuba-España)\, 
 Martirio (España)\, Raimundo Amador (España) o Braulio (España). Tambi
 én ha compartido cartel\, con figuras como Cachao\, Olga Guillot\, Pastor
 a Soler\, Ketama\, Yerbabuena\, Septeto Nacional\, Septeto Habanero\, Sier
 ra Maestra\, Septeto Santiaguero\, Eliades Ochoa\, Septeto Turquino\, Sept
 eto Nabori\, o Conjunto Jóvenes Clásicos del Son\, así como con las for
 maciones y artistas más relevantes del panorama musical de Canarias.\nPOL
 O ORTÍ\nPolo Ortí estudió en los Conservatorios de Música de las Isla
 s Canarias\, Madrid y Valencia. También se graduó en el Berklee College 
 of Music de Boston. \n\nEn 1990 Gary Burton incluyó tres composiciones m
 usicales de Ortí en su álbum Reunion\, en el que también participaron 
 Pat Metheny\, Mitchel Forman o Peter Erskine. Estas canciones llegaron a a
 lcanzar los primeros puestos en la lista Billboard de Jazz americana.\n\nS
 u discografía en solitario comienza con “Improvisaciones” (1993) lu
 ego\, con el álbum “Polo” (1997)\, producido por el actor Gabino Di
 ego y con “Polo Ortí Group Live”  (1999). En el año 2003\, graba e
 n Madrid “Para timple y piano” junto al timplista grancanario José An
 tonio Ramos. En su doble CD y DVD “Suite de la Amistad” (2007) combi
 nó magistralmente jazz y música clásica con la participación de Gary B
 urton\, Jorge Pardo y la Orquesta Sinfónica de Tenerife\, dirigida por el
  maestro Joan Albert Amargós. En noviembre de 2009 realizó un tour llama
 do “Estrejazz” con un quinteto de lujo que incluyó al vibrafonista 
 Gary Burton\, junto con el baterista Antonio Sánchez\, Scott Colley al co
 ntrabajo y el guitarrista Julian Lage.\n\nEn 2011 lanzó su último trabaj
 o discográfico llamado “Boiling Earth” con su banda Polo Ortí Grou
 p. Ese mismo año grabó un álbum junto a la cantante y pianista japones
 a Satomi Morimoto titulado “Fuga Dos” que culminó con varios con un
 a gira por Japón.  Polo Ortí ha realizado multitud de actuaciones fuera
  y dentro de nuestro País con su grupo o bien en solitario\, así como pa
 rticipando en diversos trabajos de artistas tanto nacionales como internac
 ionales. Actualmente\, se encuentra inmerso en distintos proyectos. \nCHI
 PI CHACÓN\nChipi Chacón es un trompetista\, cantante\, arreglista y prod
 uctor venezolano\, catalogado en la actualidad como uno de los músicos j
 óvenes latinoamericanos con más proyección internacional\, reconocido p
 or su gran versatilidad\, manejándose perfectamente en diferentes estilos
  musicales como clásico\, jazz y la música latina.\n\nChipi se formó co
 mo trompetista en Venezuela\, formando parte durante 15 años a la Orquest
 a Sinfónica Simón Bolívar\, bajo la batuta del maestro Gustavo Dudamel.
  \n\nHa trabajado con maestros como: Bob Mintzer\, Simon Rattle\, James M
 orrinson\, Claudio Abbado\, Arturo Sandoval\, Josemi Carmona\, Luis Perdom
 o\, Cheo Feliciano\, Edy Martínez\, Harry Sokal\, Óscar De León\, Gilbe
 rto Santa Rosa\, Lalo Rodríguez\, Richie Ray y Bobby Cruz\, Victor Cuica\
 , C4 Trio\, Aquiles Báez\, Jimmy Bosch\, Nicholas Folmer\, Kzysztof Pende
 recki\, Gerardo Chacón\, Thomas Gansch\, Alain Pérez\, Ademir Junior\, G
 erry Weill\, John Williams\, entre otros.\n\nLidera "Charangoza All Star"\
 , agrupación venezolana de música latina y afro cubana. \n\nCuenta en l
 a actualidad con cinco producciones discográficas como solista\, “My Fa
 vorite Standars (2012)” en el que participa como invitado especial\, el 
 maestro Bob Mintzer\, con el que resultó ganador en tres categorías de l
 os premios Pepsi Music : mejor disco clásico del año\, mejor disco jazz 
 del año y mejor artista jazz del año.\n\nEn su segundo trabajo discográ
 fico “Transparente (2018)”\, debuta como cantautor\, incluyendo diez c
 anciones de su autoría donde canta y toca la trompeta\, siendo nominado e
 n la categoría “Mejor Nuevo Artista” en 2019\, en los Premios Latín 
 Grammy.\n\nEn el 2020 Chipi lanzó dos discos en simultáneo titulados “
 Past” &amp\; “Present” grabados en formato sinfónico\, donde partic
 ipan artistas invitados de Brasil\, México y Colombia. En la edición de 
 los Premios PEPSI MUSIC (2021) su producción "Past" fue galardonada como 
 Mejor disco Jazz del año. \n\n"A corta distancia (2023)" es su nueva pro
 ducción discográfica. \n\n&nbsp\;
ATTACH;FMTTYPE=image/jpeg:https://www.larevistadelapalma.com/wp-content/up
 loads/2023/12/TROVEROS-2023-WEB.png
CATEGORIES:Festivales/Fiestas,Música
LOCATION:Teatro Circo de Marte\, Calle Virgen de La Luz\, 5\, Santa Cruz de
  La Palma\, 38700\, España
GEO:28.682989;-17.765755
X-APPLE-STRUCTURED-LOCATION;VALUE=URI;X-ADDRESS=Calle Virgen de La Luz\, 5\
 , Santa Cruz de La Palma\, 38700\, España;X-APPLE-RADIUS=100;X-TITLE=Teat
 ro Circo de Marte:geo:28.682989,-17.765755
END:VEVENT
END:VCALENDARBEGIN:VCALENDAR
VERSION:2.0
PRODID:-//wp-events-plugin.com//7.2.3.1//EN
TZID:Europe/London
X-WR-TIMEZONE:Europe/London
BEGIN:VEVENT
UID:909@larevistadelapalma.com
DTSTART:20231229T193000Z
DTEND:20231229T210000Z
DTSTAMP:20231207T180025Z
URL:https://www.larevistadelapalma.com/events/xxiv-festival-troveros-de-as
 ieta-con-polo-orti-y-chipi-chacon/
SUMMARY:XXIV Festival de Navidad de Troveros de Asieta\, con Polo Ortí y C
 hipi Chacón
DESCRIPTION:En esta edición\, el grupo contará como artistas invitados\, 
 con el tinerfeño Polo Ortí\, pianista y creador consagrado en el panoram
 a musical del jazz internacional\, y con el venezolano Chipi Chacón\, tro
 mpetista y cantante\, catalogado en la actualidad\, como uno de los jóven
 es músicos latinoamericanos con más proyección internacional.\n\nEn el 
 Festival se entrelazan de forma magistral\, la contundencia rítmica y son
 era del grupo\, con las armonías y el virtuosismo de estos dos grandes ta
 lentos. Troveros de Asieta\, actuará junto a Polo Ortí y Chipi Chacón\,
  pero también Chipi Chacón y Polo Ortí intervendrán conjuntamente por 
 primera vez con ocasión del mismo. El repertorio se desarrolla bajo disti
 ntos formatos y ambientes\, sorprendiendo al público asistente en una pue
 sta en escena versátil\, para culminar con un derroche de percusión que 
 le da la mano al piano y a las trompetas\, dando rienda suelta a la improv
 isación.\nComprar entradas &gt\;&gt\;\n\nTROVEROS DE ASIETA\n\nFrancis Co
 ncepción: voz y guitarra // Pedro Brito: cuatro cubano y voz // Fran Mart
 ín “Ciani”: voz y percusión menor // José Humberto Martín : trompe
 ta y coros //Oscar Herrera : trompeta // Carlos Perdomo : babybass // Jhon
 y  Olivares :percusión // David Platero : percusión // Alberto Martín:
  piano. Técnico de sonido: Chiqui Martín Técnico de Iluminación: Migue
 l Ferrera\n\n\n\nTroveros de Asieta se presenta al público en 1991\, en l
 a isla de La Palma. Cuenta con nueve trabajos discográficos publicados ha
 sta la fecha\, “Tradicional” (1994)\, “Vamos a hacerlo bueno” (199
 7)\, “Siempre sonriendo” (2001)  “Bailando con Lecuona” (2004)\, 
 “Aquí en la Isla” (2008)\, “Troveros de Asieta 20 Años – 2 CDs
 ” (2011) y “El son tiene duende” (2014)\, “Querida Cuba” (2017) 
 e “Influencias del Latin Jazz” (2020)\, que ha presentado además de p
 or toda Canarias por territorio peninsular y en el extranjero.\n\nEn 2003 
 representa a España en el Festival de Los Septetos en la Habana-Cuba\, qu
 e en esta edición se abrió por primera vez a la participación de formac
 iones soneras destacadas en el ámbito internacional.\n\nTroveros de Asiet
 a ha sido elogiado por la crítica especializada\, considerándolo como un
 a de las formaciones más relevantes de la música cubana hecha en España
  y Europa\, como así le ha sido reconocido también por los expertos cuba
 nos\, con el Premio Internacional Cubadisco otorgado al Grupo en  2012. 
 \n\nCon Troveros han colaborado de forma estrecha artistas del prestigio d
 e Manolito Simonet (Cuba)\, Alfredo Valdés Jr. (Cuba-Nueva York)\, Albita
  Rodríguez (Cuba-Miami)\, Pancho Amat (Cuba)\, Lucrecia (Cuba-España)\, 
 Martirio (España)\, Raimundo Amador (España) o Braulio (España). Tambi
 én ha compartido cartel\, con figuras como Cachao\, Olga Guillot\, Pastor
 a Soler\, Ketama\, Yerbabuena\, Septeto Nacional\, Septeto Habanero\, Sier
 ra Maestra\, Septeto Santiaguero\, Eliades Ochoa\, Septeto Turquino\, Sept
 eto Nabori\, o Conjunto Jóvenes Clásicos del Son\, así como con las for
 maciones y artistas más relevantes del panorama musical de Canarias.\nPOL
 O ORTÍ\nPolo Ortí estudió en los Conservatorios de Música de las Isla
 s Canarias\, Madrid y Valencia. También se graduó en el Berklee College 
 of Music de Boston. \n\nEn 1990 Gary Burton incluyó tres composiciones m
 usicales de Ortí en su álbum Reunion\, en el que también participaron 
 Pat Metheny\, Mitchel Forman o Peter Erskine. Estas canciones llegaron a a
 lcanzar los primeros puestos en la lista Billboard de Jazz americana.\n\nS
 u discografía en solitario comienza con “Improvisaciones” (1993) lu
 ego\, con el álbum “Polo” (1997)\, producido por el actor Gabino Di
 ego y con “Polo Ortí Group Live”  (1999). En el año 2003\, graba e
 n Madrid “Para timple y piano” junto al timplista grancanario José An
 tonio Ramos. En su doble CD y DVD “Suite de la Amistad” (2007) combi
 nó magistralmente jazz y música clásica con la participación de Gary B
 urton\, Jorge Pardo y la Orquesta Sinfónica de Tenerife\, dirigida por el
  maestro Joan Albert Amargós. En noviembre de 2009 realizó un tour llama
 do “Estrejazz” con un quinteto de lujo que incluyó al vibrafonista 
 Gary Burton\, junto con el baterista Antonio Sánchez\, Scott Colley al co
 ntrabajo y el guitarrista Julian Lage.\n\nEn 2011 lanzó su último trabaj
 o discográfico llamado “Boiling Earth” con su banda Polo Ortí Grou
 p. Ese mismo año grabó un álbum junto a la cantante y pianista japones
 a Satomi Morimoto titulado “Fuga Dos” que culminó con varios con un
 a gira por Japón.  Polo Ortí ha realizado multitud de actuaciones fuera
  y dentro de nuestro País con su grupo o bien en solitario\, así como pa
 rticipando en diversos trabajos de artistas tanto nacionales como internac
 ionales. Actualmente\, se encuentra inmerso en distintos proyectos. \nCHI
 PI CHACÓN\nChipi Chacón es un trompetista\, cantante\, arreglista y prod
 uctor venezolano\, catalogado en la actualidad como uno de los músicos j
 óvenes latinoamericanos con más proyección internacional\, reconocido p
 or su gran versatilidad\, manejándose perfectamente en diferentes estilos
  musicales como clásico\, jazz y la música latina.\n\nChipi se formó co
 mo trompetista en Venezuela\, formando parte durante 15 años a la Orquest
 a Sinfónica Simón Bolívar\, bajo la batuta del maestro Gustavo Dudamel.
  \n\nHa trabajado con maestros como: Bob Mintzer\, Simon Rattle\, James M
 orrinson\, Claudio Abbado\, Arturo Sandoval\, Josemi Carmona\, Luis Perdom
 o\, Cheo Feliciano\, Edy Martínez\, Harry Sokal\, Óscar De León\, Gilbe
 rto Santa Rosa\, Lalo Rodríguez\, Richie Ray y Bobby Cruz\, Victor Cuica\
 , C4 Trio\, Aquiles Báez\, Jimmy Bosch\, Nicholas Folmer\, Kzysztof Pende
 recki\, Gerardo Chacón\, Thomas Gansch\, Alain Pérez\, Ademir Junior\, G
 erry Weill\, John Williams\, entre otros.\n\nLidera "Charangoza All Star"\
 , agrupación venezolana de música latina y afro cubana. \n\nCuenta en l
 a actualidad con cinco producciones discográficas como solista\, “My Fa
 vorite Standars (2012)” en el que participa como invitado especial\, el 
 maestro Bob Mintzer\, con el que resultó ganador en tres categorías de l
 os premios Pepsi Music : mejor disco clásico del año\, mejor disco jazz 
 del año y mejor artista jazz del año.\n\nEn su segundo trabajo discográ
 fico “Transparente (2018)”\, debuta como cantautor\, incluyendo diez c
 anciones de su autoría donde canta y toca la trompeta\, siendo nominado e
 n la categoría “Mejor Nuevo Artista” en 2019\, en los Premios Latín 
 Grammy.\n\nEn el 2020 Chipi lanzó dos discos en simultáneo titulados “
 Past” &amp\; “Present” grabados en formato sinfónico\, donde partic
 ipan artistas invitados de Brasil\, México y Colombia. En la edición de 
 los Premios PEPSI MUSIC (2021) su producción "Past" fue galardonada como 
 Mejor disco Jazz del año. \n\n"A corta distancia (2023)" es su nueva pro
 ducción discográfica. \n\n&nbsp\;
ATTACH;FMTTYPE=image/jpeg:https://www.larevistadelapalma.com/wp-content/up
 loads/2023/12/TROVEROS-2023-WEB.png
CATEGORIES:Festivales/Fiestas,Música
LOCATION:Teatro Circo de Marte\, Calle Virgen de La Luz\, 5\, Santa Cruz de
  La Palma\, 38700\, España
GEO:28.682989;-17.765755
X-APPLE-STRUCTURED-LOCATION;VALUE=URI;X-ADDRESS=Calle Virgen de La Luz\, 5\
 , Santa Cruz de La Palma\, 38700\, España;X-APPLE-RADIUS=100;X-TITLE=Teat
 ro Circo de Marte:geo:28.682989,-17.765755
END:VEVENT
END:VCALENDAR