BEGIN:VCALENDAR
VERSION:2.0
PRODID:-//wp-events-plugin.com//7.2.3.1//EN
TZID:Europe/London
X-WR-TIMEZONE:Europe/London
BEGIN:VEVENT
UID:3709@larevistadelapalma.com
DTSTART;VALUE=DATE:20250425
DTEND;VALUE=DATE:20250427
DTSTAMP:20250421T202555Z
URL:https://www.larevistadelapalma.com/events/xxv-aniversario-de-moteros-p
 almeros/
SUMMARY:XXV Aniversario de Moteros Palmeros con los vinilos de Grajasound &
  Elvira
DESCRIPTION:El fin de semana del 25 y 26 de abril la Asociación Club “Mo
 teros Palmeros” celebran su XXV Aniversario con varios actos en la zona 
 del Charco del Lino de Los Cancajos\, donde se congregará a moteros de to
 das las islas\, con actividades como rutas por la isla\, comidas y concier
 tos.\n\nContarán con el acompañamiento musical de Grajasound &amp\; Elvi
 ra:\n\n 	 Viernes 25\, 21:00 h a 23.00 h.\n 	 Sábado 26\, 21:00h a 23.0
 0 h.\n\nMás info &gt\;&gt\;
ATTACH;FMTTYPE=image/jpeg:https://www.larevistadelapalma.com/wp-content/up
 loads/2025/04/W-Moteros-25-Aniversario-Cartel.jpg
CATEGORIES:Otras propuestas,Varios
LOCATION:Barrio- Los Cancajos\, Los Cancajos\, Breña Baja\, España
GEO:28.646962;-17.759167
X-APPLE-STRUCTURED-LOCATION;VALUE=URI;X-ADDRESS=Los Cancajos\, Breña Baja\
 , España;X-APPLE-RADIUS=100;X-TITLE=Barrio- Los Cancajos:geo:28.646962,-1
 7.759167
END:VEVENT
END:VCALENDARBEGIN:VCALENDAR
VERSION:2.0
PRODID:-//wp-events-plugin.com//7.2.3.1//EN
TZID:Europe/London
X-WR-TIMEZONE:Europe/London
BEGIN:VEVENT
UID:3709@larevistadelapalma.com
DTSTART;VALUE=DATE:20250425
DTEND;VALUE=DATE:20250427
DTSTAMP:20250421T202555Z
URL:https://www.larevistadelapalma.com/events/xxv-aniversario-de-moteros-p
 almeros/
SUMMARY:XXV Aniversario de Moteros Palmeros con los vinilos de Grajasound &
  Elvira
DESCRIPTION:El fin de semana del 25 y 26 de abril la Asociación Club “Mo
 teros Palmeros” celebran su XXV Aniversario con varios actos en la zona 
 del Charco del Lino de Los Cancajos\, donde se congregará a moteros de to
 das las islas\, con actividades como rutas por la isla\, comidas y concier
 tos.\n\nContarán con el acompañamiento musical de Grajasound &amp\; Elvi
 ra:\n\n 	 Viernes 25\, 21:00 h a 23.00 h.\n 	 Sábado 26\, 21:00h a 23.0
 0 h.\n\nMás info &gt\;&gt\;
ATTACH;FMTTYPE=image/jpeg:https://www.larevistadelapalma.com/wp-content/up
 loads/2025/04/W-Moteros-25-Aniversario-Cartel.jpg
CATEGORIES:Otras propuestas,Varios
LOCATION:Barrio- Los Cancajos\, Los Cancajos\, Breña Baja\, España
GEO:28.646962;-17.759167
X-APPLE-STRUCTURED-LOCATION;VALUE=URI;X-ADDRESS=Los Cancajos\, Breña Baja\
 , España;X-APPLE-RADIUS=100;X-TITLE=Barrio- Los Cancajos:geo:28.646962,-1
 7.759167
END:VEVENT
END:VCALENDAR