BEGIN:VCALENDAR
VERSION:2.0
PRODID:-//wp-events-plugin.com//7.2.3.1//EN
TZID:Europe/London
X-WR-TIMEZONE:Europe/London
BEGIN:VEVENT
UID:133@larevistadelapalma.com
DTSTART;VALUE=DATE:20230723
DTEND;VALUE=DATE:20230729
DTSTAMP:20230721T211639Z
URL:https://www.larevistadelapalma.com/events/xxvi-encuentro-internacional
 -de-musica-ciudad-de-el-paso/
SUMMARY:XXVI encuentro internacional de Música Ciudad de El Paso
DESCRIPTION:Conciertos\, encuentros y talleres.\nEsta edición cuenta con l
 a participación especial de la Orquesta Filarmónica del Conservatorio de
  Tenerife y de Enrique Palomares Chofre\, concertino de la Orquesta Filarm
 ónica de Valencia.\,  junto a la Banda Municipal de El Paso realizarán 
 diferentes talleres y encuentros con otros músicos.\n\nEl Encuentro nos b
 rinda el privilegio de disfrutar de magníficas actuaciones de intérprete
 s y conjuntos de renombre nacional e internacional como son el director Jo
 sé Antonio Cubas y el concertista Enrique Palomares”. Además de la imp
 ortancia del talento local\, como es el caso del pasense Ricardo García\,
  que ejerce como profesor y concertista de trompa en\nvarias orquestas a n
 ivel europeo.\n\nProgramación:\n\nMartes 25 de julio\n20:30 Horas en la C
 asa de La Cultura ‘Braulio Martín Hernández’\nConcierto de Apertura\
 nEnrique Palomares Chofre (violín) y María Lorenzo (piano)\n\nMiércoles
  26 de julio\n20:30 Horas en la Casa de La Cultura ‘Braulio Martín Hern
 ández’\nAudición de Trompas\nProfesor: Ricardo García\n\nViernes 28 d
 e julio\n20:30 Horas en la Iglesia de Nuestra Señora de Bonanza\nOrquesta
  Filarmónica de Tenerife
ATTACH;FMTTYPE=image/jpeg:https://www.larevistadelapalma.com/wp-content/up
 loads/2023/07/XXVI-Encuentro-Internacional-de-Musica-Ciudad-El-Paso.jpg
CATEGORIES:Festivales/Fiestas,Música
LOCATION:Municipio de El Paso\, El Paso\, La Palma \, El Paso\, 38750\, Esp
 aña
GEO:28.652378;-17.880396
X-APPLE-STRUCTURED-LOCATION;VALUE=URI;X-ADDRESS=El Paso\, La Palma \, El Pa
 so\, 38750\, España;X-APPLE-RADIUS=100;X-TITLE=Municipio de El Paso:geo:2
 8.652378,-17.880396
END:VEVENT
END:VCALENDARBEGIN:VCALENDAR
VERSION:2.0
PRODID:-//wp-events-plugin.com//7.2.3.1//EN
TZID:Europe/London
X-WR-TIMEZONE:Europe/London
BEGIN:VEVENT
UID:133@larevistadelapalma.com
DTSTART;VALUE=DATE:20230723
DTEND;VALUE=DATE:20230729
DTSTAMP:20230721T211639Z
URL:https://www.larevistadelapalma.com/events/xxvi-encuentro-internacional
 -de-musica-ciudad-de-el-paso/
SUMMARY:XXVI encuentro internacional de Música Ciudad de El Paso
DESCRIPTION:Conciertos\, encuentros y talleres.\nEsta edición cuenta con l
 a participación especial de la Orquesta Filarmónica del Conservatorio de
  Tenerife y de Enrique Palomares Chofre\, concertino de la Orquesta Filarm
 ónica de Valencia.\,  junto a la Banda Municipal de El Paso realizarán 
 diferentes talleres y encuentros con otros músicos.\n\nEl Encuentro nos b
 rinda el privilegio de disfrutar de magníficas actuaciones de intérprete
 s y conjuntos de renombre nacional e internacional como son el director Jo
 sé Antonio Cubas y el concertista Enrique Palomares”. Además de la imp
 ortancia del talento local\, como es el caso del pasense Ricardo García\,
  que ejerce como profesor y concertista de trompa en\nvarias orquestas a n
 ivel europeo.\n\nProgramación:\n\nMartes 25 de julio\n20:30 Horas en la C
 asa de La Cultura ‘Braulio Martín Hernández’\nConcierto de Apertura\
 nEnrique Palomares Chofre (violín) y María Lorenzo (piano)\n\nMiércoles
  26 de julio\n20:30 Horas en la Casa de La Cultura ‘Braulio Martín Hern
 ández’\nAudición de Trompas\nProfesor: Ricardo García\n\nViernes 28 d
 e julio\n20:30 Horas en la Iglesia de Nuestra Señora de Bonanza\nOrquesta
  Filarmónica de Tenerife
ATTACH;FMTTYPE=image/jpeg:https://www.larevistadelapalma.com/wp-content/up
 loads/2023/07/XXVI-Encuentro-Internacional-de-Musica-Ciudad-El-Paso.jpg
CATEGORIES:Festivales/Fiestas,Música
LOCATION:Municipio de El Paso\, El Paso\, La Palma \, El Paso\, 38750\, Esp
 aña
GEO:28.652378;-17.880396
X-APPLE-STRUCTURED-LOCATION;VALUE=URI;X-ADDRESS=El Paso\, La Palma \, El Pa
 so\, 38750\, España;X-APPLE-RADIUS=100;X-TITLE=Municipio de El Paso:geo:2
 8.652378,-17.880396
END:VEVENT
END:VCALENDAR