BEGIN:VCALENDAR
VERSION:2.0
PRODID:-//wp-events-plugin.com//7.2.3.1//EN
TZID:Europe/London
X-WR-TIMEZONE:Europe/London
BEGIN:VEVENT
UID:584@larevistadelapalma.com
DTSTART;VALUE=DATE:20230811
DTEND;VALUE=DATE:20230816
DTSTAMP:20230803T235515Z
URL:https://www.larevistadelapalma.com/events/xxxiv-feria-insular-de-artes
 ania/
SUMMARY:XXXIV Feria Insular de Artesanía
DESCRIPTION:Se celebrará del 11 al 15 de agosto en Villa de Mazo.
ATTACH;FMTTYPE=image/jpeg:https://www.larevistadelapalma.com/wp-content/up
 loads/2023/08/CARTEL-MEDIOS-FERIA-ARTESANIA-2023.jpg
CATEGORIES:Ferias y mercados,Otras propuestas
LOCATION:Campo de fútbol de Mazo\, El Pueblo\, Villa de Mazo\, 38730 \, Es
 paña
GEO:28.622071;-17.780675
X-APPLE-STRUCTURED-LOCATION;VALUE=URI;X-ADDRESS=El Pueblo\, Villa de Mazo\,
  38730 \, España;X-APPLE-RADIUS=100;X-TITLE=Campo de fútbol de Mazo:geo:
 28.622071,-17.780675
END:VEVENT
END:VCALENDARBEGIN:VCALENDAR
VERSION:2.0
PRODID:-//wp-events-plugin.com//7.2.3.1//EN
TZID:Europe/London
X-WR-TIMEZONE:Europe/London
BEGIN:VEVENT
UID:584@larevistadelapalma.com
DTSTART;VALUE=DATE:20230811
DTEND;VALUE=DATE:20230816
DTSTAMP:20230803T235515Z
URL:https://www.larevistadelapalma.com/events/xxxiv-feria-insular-de-artes
 ania/
SUMMARY:XXXIV Feria Insular de Artesanía
DESCRIPTION:Se celebrará del 11 al 15 de agosto en Villa de Mazo.
ATTACH;FMTTYPE=image/jpeg:https://www.larevistadelapalma.com/wp-content/up
 loads/2023/08/CARTEL-MEDIOS-FERIA-ARTESANIA-2023.jpg
CATEGORIES:Ferias y mercados,Otras propuestas
LOCATION:Campo de fútbol de Mazo\, El Pueblo\, Villa de Mazo\, 38730 \, Es
 paña
GEO:28.622071;-17.780675
X-APPLE-STRUCTURED-LOCATION;VALUE=URI;X-ADDRESS=El Pueblo\, Villa de Mazo\,
  38730 \, España;X-APPLE-RADIUS=100;X-TITLE=Campo de fútbol de Mazo:geo:
 28.622071,-17.780675
END:VEVENT
END:VCALENDAR