BEGIN:VCALENDAR
VERSION:2.0
PRODID:-//wp-events-plugin.com//7.2.3.1//EN
TZID:Europe/London
X-WR-TIMEZONE:Europe/London
BEGIN:VEVENT
UID:3808@larevistadelapalma.com
DTSTART:20250616T193000Z
DTEND:20250616T210000Z
DTSTAMP:20250612T230946Z
URL:https://www.larevistadelapalma.com/events/ya-llorareis-el-nuevo-espect
 aculo-de-iggy-rubin-en-el-teatro-chico/
SUMMARY:“Ya Lloraréis”\, el nuevo espectáculo de Iggy Rubín en el Te
 atro Chico
DESCRIPTION:El Teatro Cine Chico Municipal acoge “Ya Lloraréis”\, el n
 uevo espectáculo de stand up comedy de Iggy Rubín\, un monólogo cargado
  de humor irreverente\, confidencias afiladas y reflexiones excéntricas. 
 Lejos de ser un parque temático\, esta propuesta cómica ofrece contenido
  completamente inédito y provocador\, dirigido exclusivamente al público
  adulto. Con su estilo mordaz\, Iggy combina sátira\, ironía y crítica 
 cultural en un show que promete risas incómodas y momentos memorables\, a
 lejándose de sus trabajos previos como locutor y guionista para centrarse
  en el escenario.\nComprar entradas &gt\;&gt\;\n¿Es el mismo show de la 
 última gira? No\, estamos ante un 100% de idioteces inéditas. ¿Pueden a
 sistir menores? No\, se dicen muchas guarradas\, se bromea con temas de ma
 l gusto y\, además\, ahora todos los niños son de extrema derecha por cu
 lpa de Tiktok.  
ATTACH;FMTTYPE=image/jpeg:https://www.larevistadelapalma.com/wp-content/up
 loads/2025/06/Iggu-Rubin.jpg
CATEGORIES:Espectáculos
LOCATION:Teatro Chico\, Calle Díaz Pimienta\, 1\, Santa Cruz De La Palma\,
  Santa Cruz de Tenerife\, 38700\, España
GEO:28.68432;-17.764225
X-APPLE-STRUCTURED-LOCATION;VALUE=URI;X-ADDRESS=Calle Díaz Pimienta\, 1\, 
 Santa Cruz De La Palma\, Santa Cruz de Tenerife\, 38700\, España;X-APPLE-
 RADIUS=100;X-TITLE=Teatro Chico:geo:28.68432,-17.764225
END:VEVENT
END:VCALENDARBEGIN:VCALENDAR
VERSION:2.0
PRODID:-//wp-events-plugin.com//7.2.3.1//EN
TZID:Europe/London
X-WR-TIMEZONE:Europe/London
BEGIN:VEVENT
UID:3808@larevistadelapalma.com
DTSTART:20250616T193000Z
DTEND:20250616T210000Z
DTSTAMP:20250612T230946Z
URL:https://www.larevistadelapalma.com/events/ya-llorareis-el-nuevo-espect
 aculo-de-iggy-rubin-en-el-teatro-chico/
SUMMARY:“Ya Lloraréis”\, el nuevo espectáculo de Iggy Rubín en el Te
 atro Chico
DESCRIPTION:El Teatro Cine Chico Municipal acoge “Ya Lloraréis”\, el n
 uevo espectáculo de stand up comedy de Iggy Rubín\, un monólogo cargado
  de humor irreverente\, confidencias afiladas y reflexiones excéntricas. 
 Lejos de ser un parque temático\, esta propuesta cómica ofrece contenido
  completamente inédito y provocador\, dirigido exclusivamente al público
  adulto. Con su estilo mordaz\, Iggy combina sátira\, ironía y crítica 
 cultural en un show que promete risas incómodas y momentos memorables\, a
 lejándose de sus trabajos previos como locutor y guionista para centrarse
  en el escenario.\nComprar entradas &gt\;&gt\;\n¿Es el mismo show de la 
 última gira? No\, estamos ante un 100% de idioteces inéditas. ¿Pueden a
 sistir menores? No\, se dicen muchas guarradas\, se bromea con temas de ma
 l gusto y\, además\, ahora todos los niños son de extrema derecha por cu
 lpa de Tiktok.  
ATTACH;FMTTYPE=image/jpeg:https://www.larevistadelapalma.com/wp-content/up
 loads/2025/06/Iggu-Rubin.jpg
CATEGORIES:Espectáculos
LOCATION:Teatro Chico\, Calle Díaz Pimienta\, 1\, Santa Cruz De La Palma\,
  Santa Cruz de Tenerife\, 38700\, España
GEO:28.68432;-17.764225
X-APPLE-STRUCTURED-LOCATION;VALUE=URI;X-ADDRESS=Calle Díaz Pimienta\, 1\, 
 Santa Cruz De La Palma\, Santa Cruz de Tenerife\, 38700\, España;X-APPLE-
 RADIUS=100;X-TITLE=Teatro Chico:geo:28.68432,-17.764225
END:VEVENT
END:VCALENDAR