BEGIN:VCALENDAR
VERSION:2.0
PRODID:-//wp-events-plugin.com//7.2.3.1//EN
TZID:Europe/London
X-WR-TIMEZONE:Europe/London
BEGIN:VEVENT
UID:3275@larevistadelapalma.com
DTSTART:20240928T190000Z
DTEND:20240928T213000Z
DTSTAMP:20240925T013458Z
URL:https://www.larevistadelapalma.com/events/yaravi-y-quimbao-la-nuit-los
 -llanos-de-aridane/
SUMMARY:Yaravi y Quimbao La Nuit\, Los Llanos de Aridane
DESCRIPTION:Este 28 de septiembre en el Parque Antonio Gómez Felipe. Disfr
 uta de la increíble actuación de Yaravi y Quimbao la Nuit\, que nos har
 án vibrar con su energía y ritmo desde las 20:00h.\n\nUna noche mágica 
 al aire libre\, ¡y lo mejor de todo\, entrada gratuita!
ATTACH;FMTTYPE=image/jpeg:https://www.larevistadelapalma.com/wp-content/up
 loads/2024/09/Yaravi-y-quimbao-La-Nuit.jpg
CATEGORIES:Conciertos,Música
LOCATION:Parque Antonio Gómez Felipe\, Ctra. Puerto Naos A\, 5\, Los Llano
 s de Aridane\, 38767\, España
GEO:28.655023;-17.912567
X-APPLE-STRUCTURED-LOCATION;VALUE=URI;X-ADDRESS=Ctra. Puerto Naos A\, 5\, L
 os Llanos de Aridane\, 38767\, España;X-APPLE-RADIUS=100;X-TITLE=Parque A
 ntonio Gómez Felipe:geo:28.655023,-17.912567
END:VEVENT
END:VCALENDARBEGIN:VCALENDAR
VERSION:2.0
PRODID:-//wp-events-plugin.com//7.2.3.1//EN
TZID:Europe/London
X-WR-TIMEZONE:Europe/London
BEGIN:VEVENT
UID:3275@larevistadelapalma.com
DTSTART:20240928T190000Z
DTEND:20240928T213000Z
DTSTAMP:20240925T013458Z
URL:https://www.larevistadelapalma.com/events/yaravi-y-quimbao-la-nuit-los
 -llanos-de-aridane/
SUMMARY:Yaravi y Quimbao La Nuit\, Los Llanos de Aridane
DESCRIPTION:Este 28 de septiembre en el Parque Antonio Gómez Felipe. Disfr
 uta de la increíble actuación de Yaravi y Quimbao la Nuit\, que nos har
 án vibrar con su energía y ritmo desde las 20:00h.\n\nUna noche mágica 
 al aire libre\, ¡y lo mejor de todo\, entrada gratuita!
ATTACH;FMTTYPE=image/jpeg:https://www.larevistadelapalma.com/wp-content/up
 loads/2024/09/Yaravi-y-quimbao-La-Nuit.jpg
CATEGORIES:Conciertos,Música
LOCATION:Parque Antonio Gómez Felipe\, Ctra. Puerto Naos A\, 5\, Los Llano
 s de Aridane\, 38767\, España
GEO:28.655023;-17.912567
X-APPLE-STRUCTURED-LOCATION;VALUE=URI;X-ADDRESS=Ctra. Puerto Naos A\, 5\, L
 os Llanos de Aridane\, 38767\, España;X-APPLE-RADIUS=100;X-TITLE=Parque A
 ntonio Gómez Felipe:geo:28.655023,-17.912567
END:VEVENT
END:VCALENDAR