BEGIN:VCALENDAR
VERSION:2.0
PRODID:-//wp-events-plugin.com//7.2.3.1//EN
TZID:Europe/London
X-WR-TIMEZONE:Europe/London
BEGIN:VEVENT
UID:4042@larevistadelapalma.com
DTSTART:20251120T190000Z
DTEND:20251120T201500Z
DTSTAMP:20251028T225604Z
URL:https://www.larevistadelapalma.com/events/yirri-koro-danza/
SUMMARY:Yirri Koro ("Bajo el árbol")\, danza con el burkinés Yaya Sanou
DESCRIPTION: Yaya SANOU\, cantante\, bailarín y coreógrafo burkinés\, f
 undador y director artístico de la asociación ART AU DELA DU HANDICAP (A
 DH)\, explora desde hace años los elementos esenciales que conforman la t
 radición africana y las relaciones que existen entre África y su mundo a
 ncestral.\n\nDe sus investigaciones nació YIRRI KORO\, traducido como BAJ
 O EL ÁRBOL\, un solo de danza contemporánea en la que el bailarín entra
  en contacto con el mundo de los espíritus\, ya que esta pieza nos recuer
 da que las religiones africanas priorizan la relación con los ancestros.\
 n\nOrganizado por el Ayuntamiento de El Paso y Arsvita Gestioncultural
ATTACH;FMTTYPE=image/jpeg:https://www.larevistadelapalma.com/wp-content/up
 loads/2025/10/yirri-coro.jpg
CATEGORIES:Danza,Espectáculos
LOCATION:Municipio de El Paso\, El Paso\, La Palma \, El Paso\, 38750\, Esp
 aña
GEO:28.652378;-17.880396
X-APPLE-STRUCTURED-LOCATION;VALUE=URI;X-ADDRESS=El Paso\, La Palma \, El Pa
 so\, 38750\, España;X-APPLE-RADIUS=100;X-TITLE=Municipio de El Paso:geo:2
 8.652378,-17.880396
END:VEVENT
END:VCALENDARBEGIN:VCALENDAR
VERSION:2.0
PRODID:-//wp-events-plugin.com//7.2.3.1//EN
TZID:Europe/London
X-WR-TIMEZONE:Europe/London
BEGIN:VEVENT
UID:4042@larevistadelapalma.com
DTSTART:20251120T190000Z
DTEND:20251120T201500Z
DTSTAMP:20251028T225604Z
URL:https://www.larevistadelapalma.com/events/yirri-koro-danza/
SUMMARY:Yirri Koro ("Bajo el árbol")\, danza con el burkinés Yaya Sanou
DESCRIPTION: Yaya SANOU\, cantante\, bailarín y coreógrafo burkinés\, f
 undador y director artístico de la asociación ART AU DELA DU HANDICAP (A
 DH)\, explora desde hace años los elementos esenciales que conforman la t
 radición africana y las relaciones que existen entre África y su mundo a
 ncestral.\n\nDe sus investigaciones nació YIRRI KORO\, traducido como BAJ
 O EL ÁRBOL\, un solo de danza contemporánea en la que el bailarín entra
  en contacto con el mundo de los espíritus\, ya que esta pieza nos recuer
 da que las religiones africanas priorizan la relación con los ancestros.\
 n\nOrganizado por el Ayuntamiento de El Paso y Arsvita Gestioncultural
ATTACH;FMTTYPE=image/jpeg:https://www.larevistadelapalma.com/wp-content/up
 loads/2025/10/yirri-coro.jpg
CATEGORIES:Danza,Espectáculos
LOCATION:Municipio de El Paso\, El Paso\, La Palma \, El Paso\, 38750\, Esp
 aña
GEO:28.652378;-17.880396
X-APPLE-STRUCTURED-LOCATION;VALUE=URI;X-ADDRESS=El Paso\, La Palma \, El Pa
 so\, 38750\, España;X-APPLE-RADIUS=100;X-TITLE=Municipio de El Paso:geo:2
 8.652378,-17.880396
END:VEVENT
END:VCALENDAR